BEGIN:VCALENDAR
VERSION:2.0
PRODID:-//Tukios.com/
BEGIN:VEVENT
UID:50094310-e486-4e26-9295-68cebec0d7c4@www.pineknotfuneralhome.com
DTSTAMP:20260424T195725Z
DTSTART:20260426T180000Z
DTEND:20260426T190000Z
SUMMARY:Funeral Service
DESCRIPTION:
URL:https://www.pineknotfuneralhome.com/obituaries/jennifer-hamlin
LOCATION: 140 Cal Hill Spur  Pine Knot KY 42635
GEO:36.6561494;-84.4344162
END:VEVENT
END:VCALENDAR